BEGIN:VCALENDAR
VERSION:2.0
PRODID:-//Kalender//
BEGIN:VEVENT
SUMMARY:Dekanatsjugendwochenende für die Dekanate Dingelstädt und Heilig
 enstadt
DTSTART:20260320T160000Z
DTEND:20260322T113000Z
DTSTAMP:20260421T083047Z
UID:event_ical_kalender_230
DESCRIPTION:Ein Wochenende für Jugendliche aus den Dekanaten Dingelstädt
  und Heiligenstadt. Kosten: 20\,00 € Ansprechpersonen: Maria Braun und K
 atharina Pätzold Anmeldung: maria.braun@bistum-erfurt.de bzw. katharina.p
 aetzold@bistum-erfurt.de
LOCATION:Haus auf der Bleibe
END:VEVENT
END:VCALENDAR
