BEGIN:VCALENDAR
VERSION:2.0
PRODID:-//Kalender//
BEGIN:VEVENT
SUMMARY:Von Albe bis Zingulum –  Wochenende für Ministrierende
DTSTART:20210917T150000Z
DTEND:20210919T090000Z
DTSTAMP:20260425T033631Z
UID:event_ical_kalender_3
DESCRIPTION:Ob Albe oder Rochett\, Korporale oder Kelchtuch – im Gottesd
 ienst kommen viele Textilien zum Einsatz und so manches aus dem Sakristeis
 chrank wird kaum genutzt. Als Ministrantin oder Ministrant braucht es desh
 alb einen kühlen Kopf\, um alle Tücher und Gewänder auseinanderhalten z
 u können. Wie gut kennst du dich aus? Beim Wochenende für Ministrierende
  werden wir verschiedene Textilien anschauen\, ihre Bedeutung vertiefen un
 d entdecken\, welche kaum noch auftauchen. Dieses Wochenende für Ministri
 erende wird ein bunter Kurs – maßgeschneidert für neue und alte Minist
 rantinnen und Ministranten. Am Sonntag sind alle Teilnehmenden des Kurses 
 eingeladen\, gemeinsam in der Hl. Messe zur Bistumswallfahrt zu ministrier
 en. Der Kurs endet dementsprechend nicht im Bildungshaus\, sondern nach de
 m Gottesdienst auf der Bistumswallfahrt am Erfurter Dom. Kosten: 16 EUR Ve
 rantwortlich: Judith Lidzba \, Jugendpfarrer Philipp Förter
LOCATION:Jugendhaus St. Sebastian\, Erfurt
END:VEVENT
END:VCALENDAR
